BEGIN:VCALENDAR
VERSION:2.0
PRODID:-//Offene Digitalisierungsallianz Pfalz - ECPv6.15.20//NONSGML v1.0//EN
CALSCALE:GREGORIAN
METHOD:PUBLISH
X-ORIGINAL-URL:https://www.offenedigitalisierungsallianzpfalz.de
X-WR-CALDESC:Veranstaltungen für Offene Digitalisierungsallianz Pfalz
REFRESH-INTERVAL;VALUE=DURATION:PT1H
X-Robots-Tag:noindex
X-PUBLISHED-TTL:PT1H
BEGIN:VTIMEZONE
TZID:Europe/Berlin
BEGIN:DAYLIGHT
TZOFFSETFROM:+0100
TZOFFSETTO:+0200
TZNAME:CEST
DTSTART:20230326T010000
END:DAYLIGHT
BEGIN:STANDARD
TZOFFSETFROM:+0200
TZOFFSETTO:+0100
TZNAME:CET
DTSTART:20231029T010000
END:STANDARD
BEGIN:DAYLIGHT
TZOFFSETFROM:+0100
TZOFFSETTO:+0200
TZNAME:CEST
DTSTART:20240331T010000
END:DAYLIGHT
BEGIN:STANDARD
TZOFFSETFROM:+0200
TZOFFSETTO:+0100
TZNAME:CET
DTSTART:20241027T010000
END:STANDARD
BEGIN:DAYLIGHT
TZOFFSETFROM:+0100
TZOFFSETTO:+0200
TZNAME:CEST
DTSTART:20250330T010000
END:DAYLIGHT
BEGIN:STANDARD
TZOFFSETFROM:+0200
TZOFFSETTO:+0100
TZNAME:CET
DTSTART:20251026T010000
END:STANDARD
END:VTIMEZONE
BEGIN:VEVENT
DTSTART;TZID=Europe/Berlin:20240613T160000
DTEND;TZID=Europe/Berlin:20240613T170000
DTSTAMP:20260420T063217
CREATED:20240528T122207Z
LAST-MODIFIED:20240528T122221Z
UID:8516-1718294400-1718298000@www.offenedigitalisierungsallianzpfalz.de
SUMMARY:Erfolgreiche Kollaboration – nur eine Frage von Strukturen\, Prozessen & Tools?
DESCRIPTION:Erfahren Sie mehr in einem inspirierenden Vortrag von Michael Richter am 13.06.24 von 16:00 bis 17:00 Uhr. Michael wird aufzeigen\, warum der Faktor Mensch dabei nicht vernachlässigt werden darf und es nicht ausreicht\, sich nur auf Strukturen\, Prozesse und Tools zu konzentrieren.
URL:https://www.offenedigitalisierungsallianzpfalz.de/kalender/erfolgreiche-kollaboration-nur-eine-frage-von-strukturen-prozessen-tools/
LOCATION:online
ATTACH;FMTTYPE=image/png:https://www.offenedigitalisierungsallianzpfalz.de/wp-content/uploads/2024/05/Zukunftssymposium_KDE_Richter.png
END:VEVENT
BEGIN:VEVENT
DTSTART;TZID=Europe/Berlin:20240620T160000
DTEND;TZID=Europe/Berlin:20240620T170000
DTSTAMP:20260420T063217
CREATED:20240614T065429Z
LAST-MODIFIED:20240614T065655Z
UID:8543-1718899200-1718902800@www.offenedigitalisierungsallianzpfalz.de
SUMMARY:Innovationskraft live erleben: Design Thinking vor Ort und virtuell mit KI
DESCRIPTION:Im Spin-Off-Vortrag von Moritz Brandauer\, werden praktische Tools vorgestellt\, die Ihren Arbeitsalltag erleichtern. Lernen Sie\, wie Sie Routineaufgaben mit Hilfe von intelligenter Software schneller bewältigen\, beeindruckende Präsentationen mit wenig Aufwand erstellen und visuell ansprechende Grafiken\, gerade im Design Thinking\, einfach generieren können. Wir zeigen Ihnen\, wie diese Technologien nahtlos in Ihren täglichen Arbeitsablauf integriert werden können\, um Zeit zu sparen und die Produktivität zu steigern. Dieser Kurs ist ideal für alle\, die moderne Lösungen suchen\, um effizienter und effektiver im Büro zu arbeiten.
URL:https://www.offenedigitalisierungsallianzpfalz.de/kalender/innovationskraft-live-erleben-design-thinking-vor-ort-und-virtuell-mit-ki/
LOCATION:online
ATTACH;FMTTYPE=image/png:https://www.offenedigitalisierungsallianzpfalz.de/wp-content/uploads/2024/06/Zukunftssymposium_KDE_Brandauer-20.06.24.png
END:VEVENT
END:VCALENDAR