BEGIN:VCALENDAR
VERSION:2.0
PRODID:-//Offene Digitalisierungsallianz Pfalz - ECPv6.15.20//NONSGML v1.0//EN
CALSCALE:GREGORIAN
METHOD:PUBLISH
X-ORIGINAL-URL:https://www.offenedigitalisierungsallianzpfalz.de
X-WR-CALDESC:Veranstaltungen für Offene Digitalisierungsallianz Pfalz
REFRESH-INTERVAL;VALUE=DURATION:PT1H
X-Robots-Tag:noindex
X-PUBLISHED-TTL:PT1H
BEGIN:VTIMEZONE
TZID:Europe/Berlin
BEGIN:DAYLIGHT
TZOFFSETFROM:+0100
TZOFFSETTO:+0200
TZNAME:CEST
DTSTART:20230326T010000
END:DAYLIGHT
BEGIN:STANDARD
TZOFFSETFROM:+0200
TZOFFSETTO:+0100
TZNAME:CET
DTSTART:20231029T010000
END:STANDARD
BEGIN:DAYLIGHT
TZOFFSETFROM:+0100
TZOFFSETTO:+0200
TZNAME:CEST
DTSTART:20240331T010000
END:DAYLIGHT
BEGIN:STANDARD
TZOFFSETFROM:+0200
TZOFFSETTO:+0100
TZNAME:CET
DTSTART:20241027T010000
END:STANDARD
BEGIN:DAYLIGHT
TZOFFSETFROM:+0100
TZOFFSETTO:+0200
TZNAME:CEST
DTSTART:20250330T010000
END:DAYLIGHT
BEGIN:STANDARD
TZOFFSETFROM:+0200
TZOFFSETTO:+0100
TZNAME:CET
DTSTART:20251026T010000
END:STANDARD
END:VTIMEZONE
BEGIN:VEVENT
DTSTART;TZID=Europe/Berlin:20240206T173000
DTEND;TZID=Europe/Berlin:20240206T190000
DTSTAMP:20260422T201142
CREATED:20231221T092830Z
LAST-MODIFIED:20240122T104203Z
UID:8216-1707240600-1707246000@www.offenedigitalisierungsallianzpfalz.de
SUMMARY:WissensTour: „Das Mikrobiom – dein unbekannter Freund“
DESCRIPTION:Das Mikrobiom – auch bekannt als „Darmflora“ – entscheidet über unsere Gesundheit. Viele Einflüsse\, wie beispielsweise die Ernährung\, Lebensräume und Stress\, spielen dabei eine große Rolle. Veränderungen des Mikrobioms können außerdem zu Krankheiten wie Diabetes\, Fettsucht und Alzheimer führen. Prof. Dr. med. Karl-Herbert Schäfer wird am 06.02.2024 von 17:30 bis 19:00 Uhr in der „Guud Stubb“ bei „Nils – Wohnen im Quartier“ in der Friedenstr. 63 in Kaiserslautern über seine Forschung rund um den Darm berichten und Fragen von interessierten Menschen beantworten. Der Vizepräsident für Forschung und Transfer an der Hochschule Kaiserslautern forscht seit vielen Jahren zu diesem Thema und möchte einen einfachen und leicht verständlichen Einblick in diese Wissenschaft geben. \nUm Voranmeldung bei der Quartiersmanagerin Karin Früauf wird gebeten: k.frueauf@bau-ag-kl.de\, Tel. 0172 – 2579463 \nDie Veranstaltung wird im Zuge des Projekts „Offene Digitalisierungsallianz Pfalz“ durchgeführt. Das Vorhaben wird vom Bundesministerium für Bildung und Forschung im Rahmen der Bund-Länder-Initiative „Innovative Hochschule“ gefördert.
URL:https://www.offenedigitalisierungsallianzpfalz.de/kalender/wissenstour-das-mikrobiom-dein-unbekannter-freund-2/
LOCATION:Gudd Stubb „Nils – Wohnen im Quartier“\, Friedenstr. 63\, Kaiserslautern
ATTACH;FMTTYPE=image/jpeg:https://www.offenedigitalisierungsallianzpfalz.de/wp-content/uploads/2023/12/2023_11-KHS-Stadtteilbuero.jpg
END:VEVENT
END:VCALENDAR